BEGIN:VCALENDAR
VERSION:2.0
PRODID:-//ChamberMaster//Event Calendar 2.0//EN
METHOD:PUBLISH
X-PUBLISHED-TTL:P3D
REFRESH-INTERVAL:P3D
CALSCALE:GREGORIAN
BEGIN:VEVENT
DTSTART:20160727T223000Z
DTEND:20160728T003000Z
X-MICROSOFT-CDO-ALLDAYEVENT:FALSE
SUMMARY:The Use of State Power to Silence Patriots by Eric O’Keefe\, board of directors\, Citizens for Self-Governance
DESCRIPTION:Topic:\n			The Use of State Power to Silence Patriots\n		\n		\n			Speaker:\n			Eric O'Keefe\, board of directors\, Citizens for Self-Governance\n		\n		\n			When:\n			Wednesday\, July 27\, from 5:30 p.m. to 7:30 p.m.\n\n			5:30 p.m. - 6:00 p.m.  Registration and dinner\n\n			6:00 p.m. - 6:05 p.m.  Introduction\n\n			6:05 p.m. - 6:40 p.m.  Eric O'Keefe\n\n			6:40 p.m. - 7:00 p.m.  Q&A\n\n			7:00 p.m. - 7:30 p.m.  Wrap up and adjourn\n		\n		\n			Description:\n			Conservatives engaged in Wisconsin political debates have endured at least 13 home raids\, dozens of subpoenas\, and a smear campaign conducted by Milwaukee District Attorney John Chisholm and his allies. O'Keefe led the effort to terminate the assault by defying a secrecy order and taking the story to the Wall Street Journal. He then organized several lawsuits against the prosecution team. Recently O'Keefe has engaged in reviewing Republican party history and rules. He will be happy to take questions about the Wisconsin fights and the Republican party nomination process.\n		\n		\n			Registration:\n			Click here for FREE registration
X-ALT-DESC;FMTTYPE=text/html:<table border="0" cellpadding="0" cellspacing="1" style="width:300px\;">\n	<tbody>\n		<tr>\n			<td><strong>Topic:</strong></td>\n			<td>The Use of State Power to Silence Patriots</td>\n		</tr>\n		<tr>\n			<td style="vertical-align:top"><strong>Speaker:</strong></td>\n			<td><strong>Eric O&rsquo\;Keefe</strong>\, board of directors\, Citizens for Self-Governance</td>\n		</tr>\n		<tr>\n			<td style="vertical-align:top"><strong>When:</strong></td>\n			<td style="vertical-align:top"><strong>Wednesday\, July 27\, from 5:30 p.m. to 7:30 p.m.</strong><br />\n			5:30 p.m. - 6:00 p.m.&nbsp\; Registration and dinner<br />\n			6:00 p.m. - 6:05 p.m.&nbsp\; Introduction<br />\n			6:05 p.m. - 6:40 p.m.&nbsp\; Eric O&#39\;Keefe<br />\n			6:40 p.m. - 7:00 p.m.&nbsp\; Q&amp\;A<br />\n			7:00 p.m. - 7:30 p.m.&nbsp\; Wrap up and adjourn</td>\n		</tr>\n		<tr>\n			<td style="vertical-align:top"><strong>Description:</strong></td>\n			<td style="vertical-align:top">Conservatives engaged in Wisconsin political debates have endured at least 13 home raids\, dozens of subpoenas\, and a smear campaign conducted by Milwaukee District Attorney John Chisholm and his allies. O&rsquo\;Keefe led the effort to terminate the assault by defying a secrecy order and taking the story to the<em> Wall Street Journal</em>. He then organized several lawsuits against the prosecution team. Recently O&rsquo\;Keefe has engaged in reviewing Republican party history and rules.&nbsp\;He will be happy to take questions about the Wisconsin fights and the Republican party nomination process.</td>\n		</tr>\n		<tr>\n			<td><strong>Registration:</strong></td>\n			<td><a href="https://www.heartland.org/events/property-rights-21st-century-america">Click here for FREE registration</a></td>\n		</tr>\n	</tbody>\n</table>\n
LOCATION:
UID:e.858.9021
SEQUENCE:3
DTSTAMP:20260423T073357Z
URL:https://arlingtonhcc-nova-gzcms.preview.gochambermaster.com/events/details/the-use-of-state-power-to-silence-patriots-by-eric-o-keefe-board-of-directors-citizens-for-self-governance-07-27-2016-9021
END:VEVENT

END:VCALENDAR
