BEGIN:VCALENDAR
VERSION:2.0
PRODID:-//ChamberMaster//Event Calendar 2.0//EN
METHOD:PUBLISH
X-PUBLISHED-TTL:P3D
REFRESH-INTERVAL:P3D
CALSCALE:GREGORIAN
BEGIN:VEVENT
DTSTART:20160526T123000Z
DTEND:20160526T140000Z
X-MICROSOFT-CDO-ALLDAYEVENT:FALSE
SUMMARY:Sweet T's Bakery & Cake Studio Business Before Hours
DESCRIPTION:Wake Up & Smell the Cinnamon Rolls!\n\n \n\nJoin your chamber colleagues for a SWEET time of networking at Sweet T's Bakery & Cake Studio Business Before Hours. They will be serving Cinnamon Rolls\, Pecan Danish\, Coffeecakes\, Donuts\, and more!\n\n \n\nNetworking will include a connection activity to help get you started!
X-ALT-DESC;FMTTYPE=text/html:&nbsp\;\n<div style="font-family: Arial\; font-size: 13.3333px\; line-height: normal\; color: rgb(0\, 0\, 0)\;"><span style="color:#000000\;"><span style="font-size: 14pt\;"><strong>Wake Up &amp\; Smell the Cinnamon Rolls!</strong></span></span></div>\n\n<div style="color: rgb(64\, 63\, 66)\; font-family: Arial\; font-size: 13.3333px\; line-height: normal\;">&nbsp\;</div>\n\n<div style="color: rgb(64\, 63\, 66)\; font-family: Arial\; font-size: 13.3333px\; line-height: normal\;"><span style="color:#000000\;"><span style="font-size: 14pt\;">Join your chamber colleagues for a SWEET time of networking at&nbsp\;<a href="http://www.sweettbakerystudio.com/">Sweet T&#39\;s Bakery &amp\; Cake Studio</a> Business Before Hours. They will be serving C</span><span style="font-size: 14pt\;">innamon Rolls\, Pecan Danish\, Coffeecakes\, Donuts\, and more!</span></span></div>\n\n<div style="color: rgb(64\, 63\, 66)\; font-family: Arial\; font-size: 13.3333px\; line-height: normal\;">&nbsp\;</div>\n\n<div style="color: rgb(64\, 63\, 66)\; font-family: Arial\; font-size: 13.3333px\; line-height: normal\;"><span style="color:#000000\;"><span style="font-size: 14pt\;">Networking will include a connection activity to help get you started!</span></span></div>\n
LOCATION:Sweet T's Bakery & Cake Studio 21 S Dunton Ave Arlington Heights\, IL
UID:e.858.5221
SEQUENCE:3
DTSTAMP:20260423T133553Z
URL:https://arlingtonhcc-nova-gzcms.preview.gochambermaster.com/events/details/sweet-t-s-bakery-cake-studio-business-before-hours-05-26-2016-5221
END:VEVENT

END:VCALENDAR
