BEGIN:VCALENDAR
VERSION:2.0
PRODID:-//ChamberMaster//Event Calendar 2.0//EN
METHOD:PUBLISH
X-PUBLISHED-TTL:P3D
REFRESH-INTERVAL:P3D
CALSCALE:GREGORIAN
BEGIN:VEVENT
DTSTART:20161207T133000Z
DTEND:20161207T150000Z
X-MICROSOFT-CDO-ALLDAYEVENT:FALSE
SUMMARY:State of the Village and Chamber Breakfast
DESCRIPTION:Mayor Thomas Hayes will give an address on the business climate in the Village of Arlington Heights\, business retention and recruitment successes\, and an overview of how the 2017 Village Budget is directed towards helping those efforts.\n\n\n\nThe state of the Arlington Heights Chamber presented by Executive Director Jon S. Ridler will celebrate the successes of the past year\, challenges businesses face today\, and introduce the goals and strategy for 2017 to meet those challenges as the chamber enters into its 70th year serving as the business connection organization for the village.
X-ALT-DESC;FMTTYPE=text/html:Mayor Thomas Hayes will give an address on the business climate in the Village of Arlington Heights\, business retention and recruitment successes\, and an overview of how the 2017 Village Budget is directed towards helping those efforts.<br />\n<br />\nThe state of the Arlington Heights Chamber presented by Executive Director Jon S. Ridler will celebrate the successes of the past year\, challenges businesses face today\, and introduce the goals and strategy for 2017 to meet those challenges as the chamber enters into its 70th year serving as the business connection organization for the village.<br />\n&nbsp\;
LOCATION:Metropolis Ballroom 6 S Vail Ave Arlington Heights\, IL
UID:e.858.10233
SEQUENCE:3
DTSTAMP:20260422T193032Z
URL:https://arlingtonhcc-nova-gzcms.preview.gochambermaster.com/events/details/state-of-the-village-and-chamber-breakfast-10233
END:VEVENT

END:VCALENDAR
