BEGIN:VCALENDAR
VERSION:2.0
PRODID:-//ChamberMaster//Event Calendar 2.0//EN
METHOD:PUBLISH
X-PUBLISHED-TTL:P3D
REFRESH-INTERVAL:P3D
CALSCALE:GREGORIAN
BEGIN:VEVENT
DTSTART:20150411T160000Z
DTEND:20150411T190000Z
X-MICROSOFT-CDO-ALLDAYEVENT:FALSE
SUMMARY:Ribbon Tying at Kiddie Academy
DESCRIPTION:Kiddie Academy  of Arlington Heights\, a local child care provider and newly opened business in the community\, is holding a grand opening Carnival to celebrate their arrival. The grand opening event is open to the public and will take place on Saturday\, April 11\, 2015 from 11:00 a.m. to 2 p.m.  It is being held at the academy\, located at 880 W. Dundee Road.\n\n\n\nThe Grand Opening Event will begin at 11:00 a.m. on Saturday and will include activities for families with children of all ages! To help kick off the event\, the Mayor of Arlington Heights will join the academy for a ribbon cutting ceremony. The Arlington Heights community is invited to enjoy more fun-filled activities that include an interactive variety show by Brian Wismer 12-1pm\, a Children's DJ\, crafts and activities\, raffle prizes and light refreshments. Families will be able to meet the teachers and staff as well as tour the new\, state of the art facility\, including the classrooms\, playground\, and more.\n\n \n\nFor more information about the Grand Opening Carnival and Kiddie Academy of Arlington Heights\, please contact Preeti Gulati at 847-603-4500. You may also visit the academy online at www.kiddieacademy.com/arlingtonheights. \n\n \n\n*Free parking will be available onsite.
X-ALT-DESC;FMTTYPE=text/html:Kiddie Academy<sup>&reg\;</sup> of Arlington Heights\, a local child care provider and newly opened business in the community\, is holding a grand opening Carnival to celebrate their arrival. The grand opening event is open to the public and will take place on Saturday\, April 11\, 2015 from 11:00 a.m. to 2 p.m.&nbsp\; It is being held at the academy\, located at 880 W. Dundee Road.<br />\n<br />\nThe Grand Opening Event will begin at 11:00 a.m. on Saturday and will include activities for families with children of all ages! To help kick off the event\, the Mayor of Arlington Heights will join the academy for a ribbon cutting ceremony. The Arlington Heights community is invited to enjoy more fun-filled activities that include an interactive variety show by Brian Wismer 12-1pm\, a Children&#39\;s DJ\, crafts and activities\, raffle prizes and light refreshments. Families will be able to meet the teachers and staff as well as tour the new\, state of the art facility\, including the classrooms\, playground\, and more.<br />\n&nbsp\;<br />\nFor more information about the Grand Opening Carnival and Kiddie Academy of Arlington Heights\, please contact Preeti Gulati at 847-603-4500. You may also visit the academy online at <a href="http://www.kiddieacademy.com/arlingtonheights">www.kiddieacademy.com/arlingtonheights</a>.&nbsp\;<br />\n&nbsp\;<br />\n*Free parking will be available onsite.<br />\n&nbsp\;
LOCATION:Kiddie Academy 880 W. Dundee Rd. Arlington Heights\, IL 60004
UID:e.858.5045
SEQUENCE:3
DTSTAMP:20260424T125335Z
URL:https://arlingtonhcc-nova-gzcms.preview.gochambermaster.com/events/details/ribbon-tying-at-kiddie-academy-04-11-2015-5045
END:VEVENT

END:VCALENDAR
