BEGIN:VCALENDAR
VERSION:2.0
PRODID:-//ChamberMaster//Event Calendar 2.0//EN
METHOD:PUBLISH
X-PUBLISHED-TTL:P3D
REFRESH-INTERVAL:P3D
CALSCALE:GREGORIAN
BEGIN:VEVENT
DTSTART:20190325T150000Z
DTEND:20190325T153000Z
X-MICROSOFT-CDO-ALLDAYEVENT:FALSE
SUMMARY:Ribbon Tying at Arby's
DESCRIPTION:Celebrate the Ribbon Tying at the new Arby's in Arlington Heights.
X-ALT-DESC;FMTTYPE=text/html:<span style="font-size:14px\;">Celebrate the Ribbon Tying at the new Arby&#39\;s in Arlington Heights.</span>
LOCATION:100 W. Rand Rd. Arlington Heights\, IL
UID:e.858.12901
SEQUENCE:3
DTSTAMP:20260420T063925Z
URL:https://arlingtonhcc-nova-gzcms.preview.gochambermaster.com/events/details/ribbon-tying-at-arby-s-12901
END:VEVENT

END:VCALENDAR
