BEGIN:VCALENDAR
VERSION:2.0
PRODID:-//ChamberMaster//Event Calendar 2.0//EN
METHOD:PUBLISH
X-PUBLISHED-TTL:P3D
REFRESH-INTERVAL:P3D
CALSCALE:GREGORIAN
BEGIN:VEVENT
DTSTART:20170101T213000Z
DTEND:20170101T223000Z
X-MICROSOFT-CDO-ALLDAYEVENT:FALSE
SUMMARY:Quest Church's last Sunday at St. Peter Lutheran
DESCRIPTION:
X-ALT-DESC;FMTTYPE=text/html:
LOCATION:111 W. Olive St. Arlington Heights\, IL
UID:e.858.10245
SEQUENCE:3
DTSTAMP:20260422T175123Z
URL:https://arlingtonhcc-nova-gzcms.preview.gochambermaster.com/events/details/quest-church-s-last-sunday-at-st-peter-lutheran-10245
END:VEVENT

END:VCALENDAR
