BEGIN:VCALENDAR
VERSION:2.0
PRODID:-//ChamberMaster//Event Calendar 2.0//EN
METHOD:PUBLISH
X-PUBLISHED-TTL:P3D
REFRESH-INTERVAL:P3D
CALSCALE:GREGORIAN
BEGIN:VEVENT
DTSTART:20151204T173000Z
DTEND:20151204T193000Z
X-MICROSOFT-CDO-ALLDAYEVENT:FALSE
SUMMARY:PWC Holiday Lunch
DESCRIPTION:Professional Women's Connection\n\nMen Welcome\n\n\n\nPlease join us for the afternoon to celebrate the holidays and to wrap up a year of the strong connections built through the Professional Women's Connection. Come individually\, gather a few people or make it an occasion for your office and reserve a table of 8 or 10 with a table sponsorship.\n\n\n\nEntertainment by Magician Bill Cook\n\nRecently Featured on Penn & Teller Fool Us\n\n \n\n\n\nMENU\n\nGarden Vegetable Soup\n\n\n\nChoice of:\n\n\n	10 oz Berkshire Pork Chop- mashed sweet potatoes\, seasonal vegetable and cherry jus\n	Macadamia Nut Crusted Tilapia- tropical fruit relish\, island rice\, seasonal vegetable and mango butter sauce\n	Chicken Madeira Breast- red skin mashed potatoes\, seasonal vegetable and wild mushrooms with madeira\n	Vegetarian Option\n\n Flourless Chocolate Cake - raspberry sauce and vanilla ice cream\n\n\n\nDONATE A NEW BOOK \n\nHow about sharing the gift of books with area children? Donations will be accepted (and are encouraged!) for the Arlington Heights Memorial Library Book Drive at this event. For the 18th year the Arlington Heights Memorial Library is collecting new books for children from infancy to age 16 for Wheeling Township's holiday Adopt-a-Family program.  Hard cover and paperback books in English and Spanish are welcome.
X-ALT-DESC;FMTTYPE=text/html:<br />\n<span style="font-size:14px\;"><span style="color:#000000\;"><strong>Professional Women&#39\;s Connection</strong><br />\n<em>Men Welcome</em><br />\n<br />\nPlease join us for the afternoon to celebrate the holidays and to wrap up a year of the strong connections built through the Professional Women&#39\;s Connection. Come individually\, gather a few people or make it an occasion for your office and reserve a table of 8 or 10 with a table sponsorship.</span><br />\n<br />\n<strong><span style="color:#000000\;">Entertainment by </span><a href="http://billcookmagic.com/"><span style="color:#0000FF\;">Magician Bill Cook</span></a></strong><br />\n<span style="color:#000000\;">Recently Featured on Penn &amp\; Teller Fool Us<br />\n&nbsp\;<iframe allowfullscreen="" frameborder="0" height="250" scrolling="no" src="https://www.youtube.com/embed/j13rXiNnpME?rel=0" width="400"></iframe><br />\n<br />\n<strong>MENU</strong><br />\nGarden Vegetable Soup<br />\n<br />\nChoice of:</span></span>\n\n<ul>\n	<li><span style="color:#000000\;"><span style="font-size: 14px\;">10 oz Berkshire Pork Chop- mashed sweet potatoes\, seasonal vegetable and cherry jus</span></span></li>\n	<li><span style="color:#000000\;"><span style="font-size: 14px\;">Macadamia Nut Crusted Tilapia- tropical fruit relish\, island rice\, seasonal vegetable and mango butter sauce</span></span></li>\n	<li><span style="color:#000000\;"><span style="font-size: 14px\;">Chicken Madeira Breast- red skin mashed potatoes\, seasonal vegetable and wild mushrooms with madeira</span></span></li>\n	<li><span style="color:#000000\;"><em><span style="font-size: 14px\;"><span style="font-family: arial\;">Vegetarian Option</span></span></em></span></li>\n</ul>\n<span style="color:#000000\;"><span style="font-size: 14px\;"> Flourless Chocolate Cake - raspberry sauce and vanilla ice cream<br />\n<br />\n<span style="font-family: arial\;"><strong>DONATE A NEW BOOK </strong><br />\nHow about sharing the gift of books with area children? Donations will be accepted (and are encouraged!) for the Arlington Heights Memorial Library Book Drive at this event. For the 18<sup>th</sup> year the Arlington Heights Memorial Library is collecting new books for children from infancy to age 16 for Wheeling Township&#39\;s holiday Adopt-a-Family program. &nbsp\;Hard cover and paperback books in English and Spanish are welcome.</span></span></span>
LOCATION:Ditka's Arlington Heights 2000 West Euclid Avenue Arlington Heights\, IL
UID:e.858.5040
SEQUENCE:3
DTSTAMP:20260423T220218Z
URL:https://arlingtonhcc-nova-gzcms.preview.gochambermaster.com/events/details/pwc-holiday-lunch-12-04-2015-5040
END:VEVENT

END:VCALENDAR
