BEGIN:VCALENDAR
VERSION:2.0
PRODID:-//ChamberMaster//Event Calendar 2.0//EN
METHOD:PUBLISH
X-PUBLISHED-TTL:P3D
REFRESH-INTERVAL:P3D
CALSCALE:GREGORIAN
BEGIN:VEVENT
DTSTART:20171124T230000Z
DTEND:20171125T010000Z
X-MICROSOFT-CDO-ALLDAYEVENT:FALSE
SUMMARY:Pop Shop Stop
DESCRIPTION:"Pop" on into the Arlington Heights Historical Museum after the Village's Tree Lighting Ceremony to continue the celebration of the holiday season! The Museum will have the Heritage Gallery open for the community to purchase Arlington Club soda and limited edition ornaments\, as well as\, walk through the current exhibit\, "A Pop of Local Flavor: The Sweet Story of Arlington Club."\n\nIn addition\, Cindy Platt (former owner of Sylvia's Flowers) will hold a holiday d cor sale entitled "Poinsettias\, Peppermints and Pines." The sale will include unique\, handmade items to dress up the home for the holidays. Demonstrations will also be conducted along with an opportunity to register for a wreath making workshop. A portion of the proceeds of the holiday d cor sale will benefit the Museum and Northwest Suburban Special Education Organization.
X-ALT-DESC;FMTTYPE=text/html:<p>&ldquo\;Pop&rdquo\; on into the Arlington Heights Historical Museum after the Village&rsquo\;s Tree Lighting Ceremony to continue the celebration of the holiday season! The Museum will have the Heritage Gallery open for the community to purchase Arlington Club soda and limited edition ornaments\, as well as\, walk through the current exhibit\, &ldquo\;A Pop of Local Flavor: The Sweet Story of Arlington Club.&rdquo\;</p>\n\n<p>In addition\, Cindy Platt (former owner of Sylvia&rsquo\;s Flowers) will hold a holiday d&eacute\;cor sale entitled &ldquo\;Poinsettias\, Peppermints and Pines.&rdquo\; The sale will include unique\, handmade items to dress up the home for the holidays. Demonstrations will also be conducted along with an opportunity to register for a wreath making workshop. A portion of the proceeds of the holiday d&eacute\;cor sale will benefit the Museum and Northwest Suburban Special Education Organization.</p>\n
LOCATION:Arlington Heights Historical Museum 110 W. Fremont St. Arlington Heights\, IL 60004
UID:e.858.10467
SEQUENCE:3
DTSTAMP:20260421T164850Z
URL:https://arlingtonhcc-nova-gzcms.preview.gochambermaster.com/events/details/pop-shop-stop-10467
END:VEVENT

END:VCALENDAR
