BEGIN:VCALENDAR
VERSION:2.0
PRODID:-//ChamberMaster//Event Calendar 2.0//EN
METHOD:PUBLISH
X-PUBLISHED-TTL:P3D
REFRESH-INTERVAL:P3D
CALSCALE:GREGORIAN
BEGIN:VEVENT
DTSTART:20131108T190000Z
DTEND:20131108T210000Z
X-MICROSOFT-CDO-ALLDAYEVENT:FALSE
SUMMARY:Operation Appreciation
DESCRIPTION:Friday\, November 8\, 2013 in the Chapel of St. John the Beloved at 1:00pm residents will be organizing donated items and creating care packages to send to the troops overseas. The general public is also invited to drop off and donate items. Please visit our collection boxes at the Lutheran Home to make your donation.
X-ALT-DESC;FMTTYPE=text/html:Friday\, November 8\, 2013 in the Chapel of St. John the Beloved at 1:00pm residents will be organizing donated items and creating care packages to send to the troops overseas. The general public is also invited to drop off and donate items. Please visit our collection boxes at the Lutheran Home to make your donation. 
LOCATION:800 W Oakton St\, Arlington Heights\, IL\, 60004
UID:e.858.1915
SEQUENCE:3
DTSTAMP:20260426T021051Z
URL:https://arlingtonhcc-nova-gzcms.preview.gochambermaster.com/events/details/operation-appreciation-11-08-2013-1915
END:VEVENT

END:VCALENDAR
