BEGIN:VCALENDAR
VERSION:2.0
PRODID:-//ChamberMaster//Event Calendar 2.0//EN
METHOD:PUBLISH
X-PUBLISHED-TTL:P3D
REFRESH-INTERVAL:P3D
CALSCALE:GREGORIAN
BEGIN:VEVENT
DTSTART:20190730T223000Z
DTEND:20190731T003000Z
X-MICROSOFT-CDO-ALLDAYEVENT:FALSE
SUMMARY:Multi-Chamber Networking Event
DESCRIPTION:You're invited to join the Windy City Bulls for a Multi-Chamber After Hours Event! Hear from Windy City Bulls and Chicago Bulls Executives about the upcoming 2019-20 season.\n\n\n\nAppetizers and soft drinks provided.\n\n\n\nParticipating Chambers: Arlington Heights\, Barrington\, Bartlett\, Elgin\, Hoffman Estates\, Northern Kane County\, St. Charles
X-ALT-DESC;FMTTYPE=text/html:<span style="font-size:16px\;">You&rsquo\;re invited to join the Windy City Bulls for a Multi-Chamber After Hours Event! Hear from Windy City Bulls and Chicago Bulls Executives about the upcoming 2019-20 season.<br />\n<br />\nAppetizers and soft drinks provided.</span><br />\n<br />\nParticipating Chambers: Arlington Heights\, Barrington\, Bartlett\, Elgin\, Hoffman Estates\, Northern Kane County\, St. Charles
LOCATION:Sears Centre Arena 5333 Prairie Stone Parkway Hoffman Esates\, IL 60192
UID:e.858.12920
SEQUENCE:3
DTSTAMP:20260419T223513Z
URL:https://arlingtonhcc-nova-gzcms.preview.gochambermaster.com/events/details/multi-chamber-networking-event-12920
END:VEVENT

END:VCALENDAR
