BEGIN:VCALENDAR
VERSION:2.0
PRODID:-//ChamberMaster//Event Calendar 2.0//EN
METHOD:PUBLISH
X-PUBLISHED-TTL:P3D
REFRESH-INTERVAL:P3D
CALSCALE:GREGORIAN
BEGIN:VEVENT
DTSTART:20180726T223000Z
DTEND:20180727T003000Z
X-MICROSOFT-CDO-ALLDAYEVENT:FALSE
SUMMARY:Multi-Chamber After Hours with the Windy City Bulls
DESCRIPTION:Your invited to join the Windy City Bulls for Multi-Chamber After Hours Event! Meet friends from our chamber partners and also hear from Windy City Bulls and Chicago Bulls executives about the upcoming 2018-19 season.\n\n\n\nParticipating Chambers: Arlington Heights\, Barrington\, Bartlett\, Elgin and St. Charles
X-ALT-DESC;FMTTYPE=text/html:<br />\nYour invited to join the Windy City Bulls for Multi-Chamber After Hours Event! Meet friends from our chamber partners and also hear from Windy City Bulls and Chicago Bulls executives about the upcoming 2018-19 season.<br />\n<br />\n<em>Participating Chambers: Arlington Heights\, Barrington\, Bartlett\, Elgin and St. Charles</em><br />\n&nbsp\;
LOCATION:Sears Centre Arena 5333 Prairie Stone Parkway Hoffman Estates\, IL
UID:e.858.12589
SEQUENCE:3
DTSTAMP:20260420T213147Z
URL:https://arlingtonhcc-nova-gzcms.preview.gochambermaster.com/events/details/multi-chamber-after-hours-with-the-windy-city-bulls-12589
END:VEVENT

END:VCALENDAR
