BEGIN:VCALENDAR
VERSION:2.0
PRODID:-//ChamberMaster//Event Calendar 2.0//EN
METHOD:PUBLISH
X-PUBLISHED-TTL:P3D
REFRESH-INTERVAL:P3D
CALSCALE:GREGORIAN
BEGIN:VEVENT
DTSTART:20150615T210000Z
DTEND:20150615T233000Z
X-MICROSOFT-CDO-ALLDAYEVENT:FALSE
SUMMARY:Mimzi Art & Frame Ribbon Tying
DESCRIPTION:Mimzi Art & Frame invites you to attend an Open House and special Ribbon Tying Ceremony\, which will celebrate "tying" our new location in downtown Arlington Heights with the community we are now a proud part of!  Please stop by for some free beverages and snacks and check out all that Mimzi Art & Frame has to offer!  Free parking is available at the Vail Avenue Garage - 22 S Vail Avenue.
X-ALT-DESC;FMTTYPE=text/html:<span style="color:black\;"><span style="font-family:verdana\,sans-serif\;"><span style="font-size:10.0pt\;">Mimzi Art &amp\; Frame invites you to attend an Open House and special Ribbon Tying Ceremony\, which will celebrate &quot\;tying&quot\; our new location in downtown Arlington Heights with the community we are now a proud part of!&nbsp\; Please stop by for some free beverages and snacks and check out all that Mimzi Art &amp\; Frame has to offer!&nbsp\; Free parking is available at the Vail Avenue Garage - 22 S Vail Avenue.</span></span></span>
LOCATION:Mimzi Art & Frame 13 W Davis Street Arlington Heights\, IL
UID:e.858.7006
SEQUENCE:3
DTSTAMP:20260424T113623Z
URL:https://arlingtonhcc-nova-gzcms.preview.gochambermaster.com/events/details/mimzi-art-frame-ribbon-tying-06-15-2015-7006
END:VEVENT

END:VCALENDAR
