BEGIN:VCALENDAR
VERSION:2.0
PRODID:-//ChamberMaster//Event Calendar 2.0//EN
METHOD:PUBLISH
X-PUBLISHED-TTL:P3D
REFRESH-INTERVAL:P3D
CALSCALE:GREGORIAN
BEGIN:VEVENT
DTSTART:20150205T130000Z
DTEND:20150205T150000Z
X-MICROSOFT-CDO-ALLDAYEVENT:FALSE
SUMMARY:Mayor's Prayer Breakfast
DESCRIPTION:The Arlington Heights Twenty Eighth Annual Mayor's Community Prayer Breakfast is an opportunity for the community to come together to celebrate their strengths and resources through their spirituality. Please join for a time of prayer\, music\, reading and reflection. All are welcome to this multi-denominational event.\n\n\n\nSponsored By:\n\nLutheran Life Communities\n\n\n\nKeynote Speaker: John Aiello\n\nExecutive Director of Unlocking the Bible\n\n\n\nJohn came on board as Unlocking the Bible's Executive Director in February 2011. Prior to that\, he served from 1999-2010 as the Co-Founder and CEO of SAVO\, a fast-growing enterprise software company located in Chicago. John holds a BA from the University of Illinois and an MBA from Northwestern's Kellogg School of Management. In addition to his role leading the Unlocking the Bible team\, John teaches a class on entrepreneurial selling at Kellogg and serves on the boards of several software companies in Chicago. John and his wife of 20 years\, Carla\, live in Arlington Heights with their two beautiful sons. CLICK HERE for full bio.
X-ALT-DESC;FMTTYPE=text/html:<span style="font-size:14px\;"><span style="font-family: arial\;"><span style="color:#000000\;">The Arlington Heights Twenty Eighth Annual Mayor&#39\;s Community Prayer Breakfast is an opportunity for the community to come together to celebrate their strengths and resources through their spirituality. Please join for a time of prayer\, music\, reading and reflection. All are welcome to this multi-denominational event.<br />\n<br />\n<strong>Sponsored By:</strong><br />\nLutheran Life Communities<br />\n<br />\n<strong>Keynote Speaker: John Aiello</strong><br />\nExecutive Director of Unlocking the Bible</span><br />\n<br />\n<span style="color: black\;">John came on board as Unlocking the Bible&#39\;s Executive Director in February 2011. Prior to that\, he served from 1999-2010 as the Co-Founder and CEO of SAVO\, a fast-growing enterprise software company located in Chicago. John holds a BA from the University of Illinois and an MBA from Northwestern&#39\;s Kellogg School of Management. In addition to his role leading the Unlocking the Bible team\, John teaches a class on entrepreneurial selling at Kellogg and serves on the boards of several software companies in Chicago. John and his wife of 20 years\, Carla\, live in Arlington Heights with their two beautiful sons. <a href="http://cloud.chambermaster.com/userfiles/UserFiles/chambers/858/File/Aiello_Arl_Hts_Bio.pdf">CLICK HERE</a> for full bio. </span></span></span>
LOCATION:DoubleTree by Hilton Chicago Arlington Heights 75 W. Algonquin Rd Arlington Heights\, IL
UID:e.858.4652
SEQUENCE:3
DTSTAMP:20260424T191759Z
URL:https://arlingtonhcc-nova-gzcms.preview.gochambermaster.com/events/details/mayor-s-prayer-breakfast-02-05-2015-4652
END:VEVENT

END:VCALENDAR
