BEGIN:VCALENDAR
VERSION:2.0
PRODID:-//ChamberMaster//Event Calendar 2.0//EN
METHOD:PUBLISH
X-PUBLISHED-TTL:P3D
REFRESH-INTERVAL:P3D
CALSCALE:GREGORIAN
BEGIN:VEVENT
DTSTART:20190403T123000Z
DTEND:20190403T140000Z
X-MICROSOFT-CDO-ALLDAYEVENT:FALSE
SUMMARY:Making the Most of a Multi-Generational Workforce
DESCRIPTION:Join presenter Yvonne D. Agnello-Adams for this free workshop that focuses on the new "diversity" topic of today. This is the first time in history it's possible for four generations to work together. This workshop will help you understand why each generaton has certain identifiable characteristics and how to best work with each generation.
X-ALT-DESC;FMTTYPE=text/html:Join presenter Yvonne D. Agnello-Adams for this free workshop that focuses on the new &quot\;diversity&quot\; topic of today. This is the first time in history it&#39\;s possible for four generations to work together. This workshop will help you understand why each generaton has certain identifiable characteristics and how to best work with each generation.
LOCATION:Wojcik Conference Center at Harper College 1200 W. Algonquin Road\, Palatine\, IL Parking available in Lot 14
UID:e.858.12900
SEQUENCE:3
DTSTAMP:20260420T033313Z
URL:https://arlingtonhcc-nova-gzcms.preview.gochambermaster.com/events/details/making-the-most-of-a-multi-generational-workforce-12900
END:VEVENT

END:VCALENDAR
