BEGIN:VCALENDAR
VERSION:2.0
PRODID:-//ChamberMaster//Event Calendar 2.0//EN
METHOD:PUBLISH
X-PUBLISHED-TTL:P3D
REFRESH-INTERVAL:P3D
CALSCALE:GREGORIAN
BEGIN:VEVENT
DTSTART:20160614T213000Z
DTEND:20160615T000000Z
X-MICROSOFT-CDO-ALLDAYEVENT:FALSE
SUMMARY:Lutheran Home - Olson Pavilion Grand Opening
DESCRIPTION:The final phase of a 3-year campus redevelopment project at Lutheran Home is now completed. Please join community friends in celebrating the Grand Opening of the new Olson Pavilion\, Bistro 26 and Center for Wellness.\n\n\n\nA blessing and dedication will begin at 4:30pm\, with reception celebration to follow.
X-ALT-DESC;FMTTYPE=text/html:<br />\n<span style="font-size:14px\;">The final phase of a 3-year campus redevelopment project at Lutheran Home is now completed. Please join community friends in celebrating the Grand Opening of the new Olson Pavilion\, Bistro 26 and Center for Wellness.<br />\n<br />\nA blessing and dedication will begin at 4:30pm\, with reception celebration to follow.</span>
LOCATION:Lutheran Home 800 West Oakton Street Arlington Heights\, Illinois
UID:e.858.9002
SEQUENCE:3
DTSTAMP:20260423T124457Z
URL:https://arlingtonhcc-nova-gzcms.preview.gochambermaster.com/events/details/lutheran-home-olson-pavilion-grand-opening-06-14-2016-9002
END:VEVENT

END:VCALENDAR
