BEGIN:VCALENDAR
VERSION:2.0
PRODID:-//ChamberMaster//Event Calendar 2.0//EN
METHOD:PUBLISH
X-PUBLISHED-TTL:P3D
REFRESH-INTERVAL:P3D
CALSCALE:GREGORIAN
BEGIN:VEVENT
DTSTART;VALUE=DATE:20150411
DTEND;VALUE=DATE:20150412
TRANSP:TRANSPARENT
X-MICROSOFT-CDO-ALLDAYEVENT:TRUE
SUMMARY:Just Move It! Challenge 5K and 1 Mile Run/Walk
DESCRIPTION:The Arlington Heights Council of PTAs and the ABC/25 Foundation invite runners and walkers of ALL ages and abilities to participate in this fundraising event that combines fitness and fun for the entire family!\n\nEVENT FLYER\n\n5k Run/Walk\n\n1 Mile Run/Walk\n\n \n\nJoin students\, families\, and neighbors on Saturday\, April 11\, 2015 as you move to raise money for education. Thanks to the past support of our community and local businesses last year\, we were able to raise $23\,000 that will benefit the teachers and students of District 25. We had almost 1000 participants in attendance representing 9 schools in which over 500 of the runners were students.\n\nRUN\, WALK\, DONATE\, or HELP.\n\nJust Move it!\n\nThe Scholarship and Grant Fund All proceeds will go to the Scholarship and Grant Fund\, benefiting the education of School District 25 students. The Scholarship and Grant Fund is a partnership between the Arlington Heights Council of PTAs and ABC/25 Foundation. The Arlington Heights Council of PTAs is the not-for-profit PTA organization that unites all 9 school PTAs. The Council uses proceeds from this event to award scholarships to graduating high school seniors who attended District 25 schools and endeavor to recognize personal achievement. Scholarship selection is based on efforts in the classroom\, school and community involvement\, motivation\, and paid and volunteer work experience. ABC/25 Foundation is a not-for-profit organization of parents\, teachers\, administrators\, and business leaders. The Foundation will use proceeds from this event to provide funds for educational enhancements to District 25 classrooms through special teacher and school grants.\n\n\n\nhttp://jmichallenge.org/
X-ALT-DESC;FMTTYPE=text/html:<p>The Arlington Heights Council of PTAs and the ABC/25 Foundation invite runners and walkers of ALL ages and abilities to participate in this fundraising event that combines fitness and fun for the entire family!</p>\n\n<p style="text-align: center\;"><strong><a href="http://cloud.chambermaster.com/userfiles/UserFiles/chambers/858/File/ABC25JustMoveItChallenge.pdf">EVENT FLYER</a></strong></p>\n\n<p style="text-align:center\;"><strong>5k Run/Walk</strong></p>\n\n<p style="text-align:center\;"><strong>1 Mile Run/Walk</strong></p>\n\n<p style="text-align:center\;">&nbsp\;</p>\n\n<p>Join students\, families\, and neighbors on <strong>Saturday\, April 11</strong>\, <strong>2015 </strong>as you move to raise money for education. Thanks to the past support of our community and local businesses last year\, we were able to raise $23\,000 that will benefit the teachers and students of District 25. We had almost 1000 participants in attendance representing 9 schools in which over 500 of the runners were students.</p>\n\n<p style="text-align:center\;"><strong>RUN</strong>\, <strong>WALK</strong>\, <strong>DONATE</strong>\, or <strong>HELP.</strong></p>\n\n<p style="text-align:center\;"><strong>Just Move it</strong>!</p>\n\n<p><strong>The Scholarship and Grant Fund</strong> All proceeds will go to the Scholarship and Grant Fund\, benefiting the education of School District 25 students. The Scholarship and Grant Fund is a partnership between the Arlington Heights Council of PTAs and ABC/25 Foundation. The Arlington Heights Council of PTAs is the not-for-profit PTA organization that unites all 9 school PTAs. The Council uses proceeds from this event to award scholarships to graduating high school seniors who attended District 25 schools and endeavor to recognize personal achievement. Scholarship selection is based on efforts in the classroom\, school and community involvement\, motivation\, and paid and volunteer work experience. ABC/25 Foundation is a not-for-profit organization of parents\, teachers\, administrators\, and business leaders. The Foundation will use proceeds from this event to provide funds for educational enhancements to District 25 classrooms through special teacher and school grants.<br />\n<br />\n<a href="http://jmichallenge.org/">http://jmichallenge.org/</a><br />\n&nbsp\;</p>\n
LOCATION:South Middle School 400 South Highland Avenue Arlington Heights\, IL 60005
UID:e.858.5052
SEQUENCE:3
DTSTAMP:20260424T125335Z
URL:https://arlingtonhcc-nova-gzcms.preview.gochambermaster.com/events/details/just-move-it-challenge-5k-and-1-mile-run-walk-04-11-2015-5052
END:VEVENT

END:VCALENDAR
