BEGIN:VCALENDAR
VERSION:2.0
PRODID:-//ChamberMaster//Event Calendar 2.0//EN
METHOD:PUBLISH
X-PUBLISHED-TTL:P3D
REFRESH-INTERVAL:P3D
CALSCALE:GREGORIAN
BEGIN:VEVENT
DTSTART;VALUE=DATE:20171115
DTEND;VALUE=DATE:20171116
TRANSP:TRANSPARENT
X-MICROSOFT-CDO-ALLDAYEVENT:TRUE
SUMMARY:Holiday Twilight Shop SPONSORSHIP
DESCRIPTION:Become a sponsor of the Arlington Heights Chamber of Commerce 3rd Annual Holiday Twilight Shopping event. Holiday Twilight Shop is a one evening event on Wednesday\, November 15\, 2017 in Downtown Arlington Heights. Registered as a shopper and receive a passport with special discounts and treats at participating businesses\, as well as will be given admission to the after party at the Metropolis Ballroom. All passport holders will be eligible for raffle tickets for visiting and making purchases at participating retailers. \n\n\n\n\n\n$300 Twilight After Party Sponsor \n\n	Logo in Passport\n	Recognition at After Party\n	Logo on sign hung along shopping path\n	Your business featured in an email blast and social media post the week of Twilight\n	Four (4) general admission tickets to Holiday Twilight Shop\n\n \n\n$200 Twilight Featured Business\n\n\n	Name in Passport \n	Your business featured in an email blast and social media post the week of Twilight\n	Logo on sign hung along shopping path\n	Two (2) general admission tickets to Holiday Twilight Shop\n\n \n\n$100 Twilight Lane Sponsor \n\n\n	Name in Passport\n	Logo on sign hung along shopping path
X-ALT-DESC;FMTTYPE=text/html:<br />\n<span style="font-size:20px\;"><span style="font-family: arial\;"><span style="color: black\;">Become a sponsor of the Arlington Heights Chamber of Commerce 3rd Annual Holiday Twilight Shopping event. Holiday Twilight Shop is a one evening event on Wednesday\, November 15\, 2017 in Downtown Arlington Heights. Registered as a shopper and receive a passport with special discounts and treats at participating businesses\, as well as will be given admission to the after party at the Metropolis Ballroom. All passport holders will be eligible for raffle tickets for visiting and making purchases at participating retailers. </span></span></span><br />\n<br />\n<br />\n<strong><span style="font-family:arial\,sans-serif\;"><span style="font-size:16.0pt\;">$300 Twilight After Party Sponsor </span></span></strong>\n<ul>\n	<li style="margin-bottom:8.0pt\;line-height:105%\;"><span style="font-family:arial\,sans-serif\;"><span style="font-size:14.0pt\;">Logo in Passport</span></span></li>\n	<li style="margin-bottom:8.0pt\;line-height:105%\;"><span style="font-family:arial\,sans-serif\;"><span style="font-size:14.0pt\;">Recognition at After Party</span></span></li>\n	<li style="margin-bottom:8.0pt\;line-height:105%\;"><span style="font-family:arial\,sans-serif\;"><span style="font-size:14.0pt\;">Logo on sign hung along shopping path</span></span></li>\n	<li style="margin-bottom:8.0pt\;line-height:105%\;"><span style="font-family:arial\,sans-serif\;"><span style="font-size:14.0pt\;">Your business featured in an email blast and social media post the week of Twilight</span></span></li>\n	<li style="margin-bottom:8.0pt\;line-height:105%\;"><span style="font-family:arial\,sans-serif\;"><span style="font-size:14.0pt\;">Four (4) general admission tickets to Holiday Twilight Shop</span></span></li>\n</ul>\n&nbsp\;<br />\n<strong><span style="font-family:arial\,sans-serif\;"><span style="font-size:16.0pt\;">$200 Twilight Featured Business</span></span></strong>\n\n<ul>\n	<li style="margin-bottom:8.0pt\;line-height:105%\;"><span style="font-family:arial\,sans-serif\;"><span style="font-size:14.0pt\;">Name in Passport </span></span></li>\n	<li style="margin-bottom:8.0pt\;line-height:105%\;"><span style="font-family:arial\,sans-serif\;"><span style="font-size:14.0pt\;">Your business featured in an email blast and social media post the week of Twilight</span></span></li>\n	<li style="margin-bottom:8.0pt\;line-height:105%\;"><span style="font-family:arial\,sans-serif\;"><span style="font-size:14.0pt\;">Logo on sign hung along shopping path</span></span></li>\n	<li style="margin-bottom:8.0pt\;line-height:105%\;"><span style="font-family:arial\,sans-serif\;"><span style="font-size:14.0pt\;"><span style="color:#000000\;"><span style="font-family: arial\,sans-serif\;"><span style="font-size: 14pt\;">Two (2) general admission tickets to Holiday Twilight Shop</span></span></span></span></span></li>\n</ul>\n&nbsp\;<br />\n<strong><span style="font-family:arial\,sans-serif\;"><span style="font-size:16.0pt\;">$100 Twilight Lane Sponsor </span></span></strong>\n\n<ul>\n	<li style="margin-bottom:8.0pt\;line-height:105%\;"><span style="font-family:arial\,sans-serif\;"><span style="font-size:14.0pt\;">Name in Passport</span></span></li>\n	<li style="margin-bottom:8.0pt\;line-height:105%\;"><span style="font-family:arial\,sans-serif\;"><span style="font-size:14.0pt\;">Logo on sign hung along shopping path</span></span></li>\n</ul>\n
LOCATION:Downtown Arlington Heights
UID:e.858.10461
SEQUENCE:3
DTSTAMP:20260421T163722Z
URL:https://arlingtonhcc-nova-gzcms.preview.gochambermaster.com/events/details/holiday-twilight-shop-sponsorship-10461
END:VEVENT

END:VCALENDAR
