BEGIN:VCALENDAR
VERSION:2.0
PRODID:-//ChamberMaster//Event Calendar 2.0//EN
METHOD:PUBLISH
X-PUBLISHED-TTL:P3D
REFRESH-INTERVAL:P3D
CALSCALE:GREGORIAN
BEGIN:VEVENT
DTSTART:20150804T123000Z
DTEND:20150804T123000Z
X-MICROSOFT-CDO-ALLDAYEVENT:FALSE
SUMMARY:Health & Wellness Initiative Planning Meeting
DESCRIPTION:Meeting to discuss 12 week health initiative beginning September 17th\n\n\n\nThis meeting will cover:\n\n\n	Marketing distribution for the September event kick off and confirmation of presenters. (Details about the 12 week health awakening at http://www.arlingtonhcc.com/pages/HealthWellnessCommittee)\n	Begin discussing plans for Family Olympics in February 2016 and deciding on a location
X-ALT-DESC;FMTTYPE=text/html:<span style="font-size:14px\;">Meeting to discuss 12 week health initiative beginning September 17th<br />\n<br />\nThis meeting will cover:</span>\n\n<ul>\n	<li><span style="font-family:arial\;"><span style="font-size: 14px\;">Marketing distribution for the September event kick off and confirmation of presenters. (Details about the 12 week health awakening at </span></span><a href="http://www.arlingtonhcc.com/pages/HealthWellnessCommittee"><span style="font-size:14px\;">http://www.arlingtonhcc.com/pages/HealthWellnessCommittee</span></a>)</li>\n	<li><span style="font-family:arial\;"><span style="font-size: 14px\;">Begin discussing plans for Family Olympics in February 2016 and deciding on a location</span></span></li>\n</ul>\n
LOCATION:Corner Bakery Cafe 470 E. Rand Rd Arlington Heights\, IL
UID:e.858.7169
SEQUENCE:3
DTSTAMP:20260424T051543Z
URL:https://arlingtonhcc-nova-gzcms.preview.gochambermaster.com/events/details/health-wellness-initiative-planning-meeting-08-04-2015-7169
END:VEVENT

END:VCALENDAR
