BEGIN:VCALENDAR
VERSION:2.0
PRODID:-//ChamberMaster//Event Calendar 2.0//EN
METHOD:PUBLISH
X-PUBLISHED-TTL:P3D
REFRESH-INTERVAL:P3D
CALSCALE:GREGORIAN
BEGIN:VEVENT
DTSTART:20151204T010000Z
DTEND:20151204T020000Z
X-MICROSOFT-CDO-ALLDAYEVENT:FALSE
SUMMARY:H&W Health Awakening - Finding Common Ground: Popular Eating Styles and Finding What Works for You
DESCRIPTION:It's seems there are more dietary trends than fashion today! Paleo\; primal\; vegetarian\; vegan- the strong opinions on both sides sure can be confusing\, and make us want to throw in the towel on figuring out eating for our best health! We hear you\; join us for a one-hour group discussion led by Health Professionals from our local community to gather the basics on:\n\n \n\n1.    Current popular trends in whole foods eating\n\n2.    The differences\n\n3.    What they have in common\n\n4.    Creating an eating style that works best for you\n\n \n \n\nTO REGISTER please visit https://ce.d214.org/cep/cep_health__fitness.aspx.
X-ALT-DESC;FMTTYPE=text/html:&nbsp\;\n<p style="margin: 0px\; padding: 0px\; border: 0px\; outline: 0px\; font-size: 14px\; color: rgb(39\, 39\, 51)\; font-family: Arial\, Helvetica\, Geneva\, Swiss\, SunSans-Regular\; font-style: normal\; font-variant: normal\; font-weight: normal\; letter-spacing: normal\; line-height: 18px\; orphans: auto\; text-align: left\; text-indent: 0px\; text-transform: none\; white-space: normal\; widows: 1\; word-spacing: 0px\; -webkit-text-stroke-width: 0px\; background-color: rgb(255\, 255\, 255)\;">It&rsquo\;s seems there are more dietary trends than fashion today! Paleo\; primal\; vegetarian\; vegan- the strong opinions on both sides sure can be confusing\, and make us want to throw in the towel on figuring out eating for our best health! We hear you\; join us for a one-hour group discussion led by Health Professionals from our local community to gather the basics on:<br />\n&nbsp\;</p>\n\n<p style="margin: 0px\; padding: 0px\; border: 0px\; outline: 0px\; font-size: 14px\; color: rgb(39\, 39\, 51)\; font-family: Arial\, Helvetica\, Geneva\, Swiss\, SunSans-Regular\; font-style: normal\; font-variant: normal\; font-weight: normal\; letter-spacing: normal\; line-height: 18px\; orphans: auto\; text-align: left\; text-indent: 0px\; text-transform: none\; white-space: normal\; widows: 1\; word-spacing: 0px\; -webkit-text-stroke-width: 0px\; background-color: rgb(255\, 255\, 255)\;">1.&nbsp\;&nbsp\;&nbsp\; Current popular trends in whole foods eating</p>\n\n<p style="margin: 0px\; padding: 0px\; border: 0px\; outline: 0px\; font-size: 14px\; color: rgb(39\, 39\, 51)\; font-family: Arial\, Helvetica\, Geneva\, Swiss\, SunSans-Regular\; font-style: normal\; font-variant: normal\; font-weight: normal\; letter-spacing: normal\; line-height: 18px\; orphans: auto\; text-align: left\; text-indent: 0px\; text-transform: none\; white-space: normal\; widows: 1\; word-spacing: 0px\; -webkit-text-stroke-width: 0px\; background-color: rgb(255\, 255\, 255)\;">2.&nbsp\;&nbsp\;&nbsp\; The differences</p>\n\n<p style="margin: 0px\; padding: 0px\; border: 0px\; outline: 0px\; font-size: 14px\; color: rgb(39\, 39\, 51)\; font-family: Arial\, Helvetica\, Geneva\, Swiss\, SunSans-Regular\; font-style: normal\; font-variant: normal\; font-weight: normal\; letter-spacing: normal\; line-height: 18px\; orphans: auto\; text-align: left\; text-indent: 0px\; text-transform: none\; white-space: normal\; widows: 1\; word-spacing: 0px\; -webkit-text-stroke-width: 0px\; background-color: rgb(255\, 255\, 255)\;">3.&nbsp\;&nbsp\;&nbsp\; What they have in common</p>\n\n<p style="margin: 0px\; padding: 0px\; border: 0px\; outline: 0px\; font-size: 14px\; color: rgb(39\, 39\, 51)\; font-family: Arial\, Helvetica\, Geneva\, Swiss\, SunSans-Regular\; font-style: normal\; font-variant: normal\; font-weight: normal\; letter-spacing: normal\; line-height: 18px\; orphans: auto\; text-align: left\; text-indent: 0px\; text-transform: none\; white-space: normal\; widows: 1\; word-spacing: 0px\; -webkit-text-stroke-width: 0px\; background-color: rgb(255\, 255\, 255)\;">4.&nbsp\;&nbsp\;&nbsp\; Creating an eating style that works best for you<br />\n&nbsp\;</p>\n&nbsp\;\n\n<p style="margin: 0px\; padding: 0px\; border: 0px\; outline: 0px\; font-size: 14px\; color: rgb(39\, 39\, 51)\; font-family: Arial\, Helvetica\, Geneva\, Swiss\, SunSans-Regular\; font-style: normal\; font-variant: normal\; font-weight: normal\; letter-spacing: normal\; line-height: 18px\; orphans: auto\; text-align: left\; text-indent: 0px\; text-transform: none\; white-space: normal\; widows: 1\; word-spacing: 0px\; -webkit-text-stroke-width: 0px\; background-color: rgb(255\, 255\, 255)\;"><strong><span style="border:none windowtext 1.0pt\;padding:0in\;font-weight:normal\;"><span style="color:#272733\;"><span style="font-family:arial\,sans-serif\;"><span style="font-size:10.0pt\;">TO </span></span></span></span></strong><strong><span style="border:none windowtext 1.0pt\;padding:0in\;font-weight:normal\;"><span style="color:#272733\;"><span style="font-family:arial\,sans-serif\;"><span style="font-size:10.0pt\;">REGISTER</span></span></span></span></strong> please visit <a href="https://ce.d214.org/cep/cep_health__fitness.aspx">https://ce.d214.org/cep/cep_health__fitness.aspx</a>.</p>\n
LOCATION:D214 Forest View Educational Center Room C102 2121 S. Goebbert Rd. Arlington Heights\, IL
UID:e.858.8195
SEQUENCE:3
DTSTAMP:20260423T203837Z
URL:https://arlingtonhcc-nova-gzcms.preview.gochambermaster.com/events/details/h-w-health-awakening-finding-common-ground-popular-eating-styles-and-finding-what-works-for-you-12-03-2015-8195
END:VEVENT

END:VCALENDAR
