BEGIN:VCALENDAR
VERSION:2.0
PRODID:-//ChamberMaster//Event Calendar 2.0//EN
METHOD:PUBLISH
X-PUBLISHED-TTL:P3D
REFRESH-INTERVAL:P3D
CALSCALE:GREGORIAN
BEGIN:VEVENT
DTSTART:20190604T213000Z
DTEND:20190604T233000Z
X-MICROSOFT-CDO-ALLDAYEVENT:FALSE
SUMMARY:Grand Opening Celebration
DESCRIPTION:PLEASE JOIN US AS WE CELEBRATE THE GRAND OPENING OF NEW HIGHLANDS MEMORY SUPPORT ASSISTED LIVING AT THE MOORINGS OF ARLINGTON HEIGHTS.\n\n\n\nWINE AND APPETIZERS WILL BE SERVED AND TOURS WILL BE AVAILABLE.\n\n\n\nTHE HIGHLANDS MEMORY SUPPORT ASSISTED LIVING REPRESENTS A STATE-OF-THE-ART\, GRACIOUS LIFESTYLE OPTION FOR OLDER ADULTS WITH MEMORY IMPAIRMENT.
X-ALT-DESC;FMTTYPE=text/html:PLEASE JOIN US AS WE CELEBRATE THE GRAND OPENING OF NEW HIGHLANDS MEMORY SUPPORT ASSISTED LIVING AT THE MOORINGS OF ARLINGTON HEIGHTS.<br />\n<br />\nWINE AND APPETIZERS WILL BE SERVED AND TOURS WILL BE AVAILABLE.<br />\n<br />\nTHE HIGHLANDS MEMORY SUPPORT ASSISTED LIVING REPRESENTS A STATE-OF-THE-ART\, GRACIOUS LIFESTYLE OPTION FOR OLDER ADULTS WITH MEMORY IMPAIRMENT.
LOCATION:The Highlands At The Moorings of Arlington Heights 1071 S. Moorings Drive Arlington Heights\, IL 60005
UID:e.858.12915
SEQUENCE:3
DTSTAMP:20260420T000430Z
URL:https://arlingtonhcc-nova-gzcms.preview.gochambermaster.com/events/details/grand-opening-celebration-12915
END:VEVENT

END:VCALENDAR
