BEGIN:VCALENDAR
VERSION:2.0
PRODID:-//ChamberMaster//Event Calendar 2.0//EN
METHOD:PUBLISH
X-PUBLISHED-TTL:P3D
REFRESH-INTERVAL:P3D
CALSCALE:GREGORIAN
BEGIN:VEVENT
DTSTART:20160420T160000Z
DTEND:20160420T190000Z
X-MICROSOFT-CDO-ALLDAYEVENT:FALSE
SUMMARY:Garden of Giving Women's Luncheon
DESCRIPTION:Join Event Chairs\, Sharon Griffin and Mary Baur\, in helping JOURNEYS | The Road Home plant seeds of hope for those who are homeless or at risk of becoming homeless.
X-ALT-DESC;FMTTYPE=text/html:Join Event Chairs\, Sharon Griffin and Mary Baur\, in helping JOURNEYS | The Road Home plant seeds of hope for those who are homeless or at risk of becoming homeless.
LOCATION:Inverness Golf Club 102 North Roselle Road Inverness\, IL
UID:e.858.8979
SEQUENCE:3
DTSTAMP:20260423T163102Z
URL:https://arlingtonhcc-nova-gzcms.preview.gochambermaster.com/events/details/garden-of-giving-women-s-luncheon-04-20-2016-8979
END:VEVENT

END:VCALENDAR
