BEGIN:VCALENDAR
VERSION:2.0
PRODID:-//ChamberMaster//Event Calendar 2.0//EN
METHOD:PUBLISH
X-PUBLISHED-TTL:P3D
REFRESH-INTERVAL:P3D
CALSCALE:GREGORIAN
BEGIN:VEVENT
DTSTART:20150611T213000Z
DTEND:20150611T233000Z
X-MICROSOFT-CDO-ALLDAYEVENT:FALSE
SUMMARY:Francesca's Tavola Business After Hours
DESCRIPTION:Italian favorites in an ambiance of sophisticated comfort\n \n\nFrancesca's Tavola invites you to attend our Business After Hours event. Mingle with other business professionals in our private event room\, enjoy complimentary signature appetizers\, delicious Glazed & Infused Mini donuts and a cash bar\, featuring $5 martinis.\n\n\n\nBring your business card to enter a drawing at 6pm for a special prize!\n\n\n\nPlease tip your servers.
X-ALT-DESC;FMTTYPE=text/html:<div class="ArticleHeadlineText" style="color:#121212\;font-style:italic\;font-family:Georgia\,&quot\;Times New Roman&quot\;\,Times\,serif\;font-weight:bold\;font-size:16pt\;"><span style="color: #000000\;">Italian favorites in an ambiance of sophisticated comfort</span></div>\n&nbsp\;\n\n<div style="font-size: 12pt\;"><span>Francesca&#39\;s Tavola invites you to attend our Business After Hours event.</span><span> Mingle with other business professionals in our private event room\, enjoy complimentary signature appetizers\, <span>delicious Glazed &amp\; Infused Mini donuts </span>and a cash bar\, featuring $5 martinis.</span><br />\n<br />\nBring your business card to enter a drawing at 6pm for a special prize!<br />\n<br />\nPlease tip your servers.</div>\n
LOCATION:Francesca's Tavola 208 S Arlington Heights Rd Arlington Heights\, IL
UID:e.858.4292
SEQUENCE:3
DTSTAMP:20260424T102605Z
URL:https://arlingtonhcc-nova-gzcms.preview.gochambermaster.com/events/details/francesca-s-tavola-business-after-hours-06-11-2015-4292
END:VEVENT

END:VCALENDAR
