BEGIN:VCALENDAR
VERSION:2.0
PRODID:-//ChamberMaster//Event Calendar 2.0//EN
METHOD:PUBLISH
X-PUBLISHED-TTL:P3D
REFRESH-INTERVAL:P3D
CALSCALE:GREGORIAN
BEGIN:VEVENT
DTSTART:20160628T213000Z
DTEND:20160628T233000Z
X-MICROSOFT-CDO-ALLDAYEVENT:FALSE
SUMMARY:Fox & Hound Smokehouse & Tavern Business After Hours (with Palatine Chamber of Commerce)
DESCRIPTION:Multi-Chamber Networking Event - \n\nArlington Heights Chamber of Commerce\n\n& Palatine Chamber of Commerce\n\n \nBusinesses from neighboring communities\, Arlington Heights and Palatine\, come together to share connections during a fun evening of networking.\n\n\n\nFox & Hound is a local bar. Unpretentious. Casual. Relaxed. They're not trying to be everybody's bar. Just yours. With lots of amazing food options\, daily drink specials\, tons of TV's\, gaming and a great atmosphere to top it off\, Fox & Hound is your Party Headquarters!!!\n\n \n\nBring your business cards and enter the raffle for a chance to win an amazing prize package!
X-ALT-DESC;FMTTYPE=text/html:<br />\n<span style="font-size:14px\;"><span style="font-family:arial\;"><span style="color:#000000\;"><strong>Multi-Chamber Networking Event - </strong><br />\nArlington Heights Chamber of Commerce<br />\n&amp\; Palatine Chamber of Commerce</span></span></span><br />\n&nbsp\;\n<div style="color: rgb(0\, 0\, 0)\; font-family: &quot\;Times New Roman&quot\;\; font-size: medium\; line-height: normal\;"><span style="font-size:14px\;"><span style="font-family:arial\;"><span style="color:#000000\;"><span _mce_style="font-family: Helvetica\, Calibri\, Arial\, sans-serif\; font-size: 12pt\;">Businesses from neighboring communities\, Arlington Heights and Palatine\, come together to share connections during a fun&nbsp\;evening of networking.<br />\n<br />\nFox &amp\; Hound is a local bar. Unpretentious. Casual. Relaxed.&nbsp\;They&#39\;re not trying to be everybody&#39\;s bar. Just yours. With lots of amazing food&nbsp\;options\, daily drink specials\, tons of TV&#39\;s\,&nbsp\;gaming and a great atmosphere to top it off\,&nbsp\;Fox &amp\; Hound is your Party Headquarters!!!</span></span></span></span></div>\n\n<div style="color: rgb(0\, 0\, 0)\; font-family: &quot\;Times New Roman&quot\;\; font-size: medium\; line-height: normal\;">&nbsp\;</div>\n\n<div style="color: rgb(0\, 0\, 0)\; font-family: &quot\;Times New Roman&quot\;\; font-size: medium\; line-height: normal\;"><span style="font-size:14px\;"><span style="font-family:arial\;"><span style="color:#000000\;"><span _mce_style="font-family: Helvetica\, Calibri\, Arial\, sans-serif\; font-size: 12pt\;">Bring your business cards and enter the raffle for a chance to win an&nbsp\;amazing prize package!</span></span></span></span></div>\n
LOCATION:Fox & Hound Smokehouse & Tavern 910 W Dundee Rd Arlington Heights\, IL
UID:e.858.5223
SEQUENCE:3
DTSTAMP:20260423T104128Z
URL:https://arlingtonhcc-nova-gzcms.preview.gochambermaster.com/events/details/fox-hound-smokehouse-tavern-business-after-hours-with-palatine-chamber-of-commerce-06-28-2016-5223
END:VEVENT

END:VCALENDAR
