BEGIN:VCALENDAR
VERSION:2.0
PRODID:-//ChamberMaster//Event Calendar 2.0//EN
METHOD:PUBLISH
X-PUBLISHED-TTL:P3D
REFRESH-INTERVAL:P3D
CALSCALE:GREGORIAN
BEGIN:VEVENT
DTSTART:20151127T233000Z
DTEND:20151128T010000Z
X-MICROSOFT-CDO-ALLDAYEVENT:FALSE
SUMMARY:Festival of the Wreaths\, Arlington Heights Historical Museum
DESCRIPTION:Visit the Arlington Heights Historical Museum at 110 W. Fremont on Friday\, 11/27 either before (1:00-4:00p.m.) or after the Village's Tree Lighting ceremony to view the over 70 wreaths created by local individuals\, community organizations and businesses. Vote for your favorite wreath and begin bidding on a wreath you might like to own.
X-ALT-DESC;FMTTYPE=text/html:Visit the Arlington Heights Historical Museum at 110 W. Fremont on Friday\, 11/27 either before (1:00-4:00p.m.) or after the Village&#39\;s Tree Lighting ceremony to view the over 70 wreaths created by local individuals\, community organizations and businesses. Vote for your favorite wreath and begin bidding on a wreath you might like to own.
LOCATION:110 W. Fremont\, Arlington Heights
UID:e.858.8420
SEQUENCE:3
DTSTAMP:20260423T220246Z
URL:https://arlingtonhcc-nova-gzcms.preview.gochambermaster.com/events/details/festival-of-the-wreaths-arlington-heights-historical-museum-11-27-2015-8420
END:VEVENT

END:VCALENDAR
