BEGIN:VCALENDAR
VERSION:2.0
PRODID:-//ChamberMaster//Event Calendar 2.0//EN
METHOD:PUBLISH
X-PUBLISHED-TTL:P3D
REFRESH-INTERVAL:P3D
CALSCALE:GREGORIAN
BEGIN:VEVENT
DTSTART:20171010T163000Z
DTEND:20171011T020000Z
X-MICROSOFT-CDO-ALLDAYEVENT:FALSE
SUMMARY:Escorted Transportation Services (ETS) Francesca's Fundraiser
DESCRIPTION:Come join us for a tasty meal at Francesca's Tavola on Tues. Oct. 11.  Dine in or carry out for lunch or dinner or both! Francesca's will generously donate 15% of the proceeds to ETS.  They are located at 208 S. Arlington Heights Rd.\, Arlington Heights.  Please bring the flyer announcing the event with you. It's on our website at https://etsnw.org/events/
X-ALT-DESC;FMTTYPE=text/html:Come join us for a tasty meal at Francesca&#39\;s Tavola on Tues. Oct. 11. &nbsp\;Dine in or carry out for lunch or dinner or both! Francesca&#39\;s will generously donate 15% of the proceeds to ETS. &nbsp\;They are located at 208 S. Arlington Heights Rd.\, Arlington Heights. &nbsp\;Please bring the flyer announcing the event with you. It&#39\;s on our website at&nbsp\;https://etsnw.org/events/&nbsp\;
LOCATION:Francesca's Tavola 208 S. Arlington Heights Rd.\, Arlington Heights\, IL 60005. (847) 394-3950.
UID:e.858.10458
SEQUENCE:3
DTSTAMP:20260421T183031Z
URL:https://arlingtonhcc-nova-gzcms.preview.gochambermaster.com/events/details/escorted-transportation-services-ets-francesca-s-fundraiser-10458
END:VEVENT

END:VCALENDAR
