BEGIN:VCALENDAR
VERSION:2.0
PRODID:-//ChamberMaster//Event Calendar 2.0//EN
METHOD:PUBLISH
X-PUBLISHED-TTL:P3D
REFRESH-INTERVAL:P3D
CALSCALE:GREGORIAN
BEGIN:VEVENT
DTSTART:20171116T230000Z
DTEND:20171117T010000Z
X-MICROSOFT-CDO-ALLDAYEVENT:FALSE
SUMMARY:Connections & Craft Brews
DESCRIPTION:Join the Arlington Heights Chamber of Commerce for a Connection and Craft Brews Tasting Experience.
X-ALT-DESC;FMTTYPE=text/html:<span style="font-size:16px\;">Join the Arlington Heights Chamber of Commerce for a Connection and Craft Brews Tasting Experience.</span>
LOCATION:25N Coworking (3400 W. Stonegate Blvd.\, Arlington Heights)
UID:e.858.10463
SEQUENCE:3
DTSTAMP:20260421T164849Z
URL:https://arlingtonhcc-nova-gzcms.preview.gochambermaster.com/events/details/connections-craft-brews-10463
END:VEVENT

END:VCALENDAR
