BEGIN:VCALENDAR
VERSION:2.0
PRODID:-//ChamberMaster//Event Calendar 2.0//EN
METHOD:PUBLISH
X-PUBLISHED-TTL:P3D
REFRESH-INTERVAL:P3D
CALSCALE:GREGORIAN
BEGIN:VEVENT
DTSTART:20170223T223000Z
DTEND:20170224T003000Z
X-MICROSOFT-CDO-ALLDAYEVENT:FALSE
SUMMARY:Connection After Hours at Paragon Theater
DESCRIPTION:Connect and Engage with other professionals at our Connection After Hours at Paragon Theater while enjoying some appetizers\, 2 drink tickets and a Movie Pass for a later date.
X-ALT-DESC;FMTTYPE=text/html:Connect and Engage with other professionals at our Connection After Hours at Paragon Theater while enjoying some appetizers\, 2 drink tickets and a Movie Pass for a later date.
LOCATION:Paragon Theater 53 South Evergreen Ave. Arlington Heights\, IL
UID:e.858.10293
SEQUENCE:3
DTSTAMP:20260422T160047Z
URL:https://arlingtonhcc-nova-gzcms.preview.gochambermaster.com/events/details/connection-after-hours-at-paragon-theater-10293
END:VEVENT

END:VCALENDAR
