BEGIN:VCALENDAR
VERSION:2.0
PRODID:-//ChamberMaster//Event Calendar 2.0//EN
METHOD:PUBLISH
X-PUBLISHED-TTL:P3D
REFRESH-INTERVAL:P3D
CALSCALE:GREGORIAN
BEGIN:VEVENT
DTSTART:20170519T130000Z
DTEND:20170519T140000Z
X-MICROSOFT-CDO-ALLDAYEVENT:FALSE
SUMMARY:Coffee & Connections
DESCRIPTION:Join the Arlington Heights Chamber of Commerce for Coffee & Connections \n\n\n\nAND STAY FOR...\n\n\n\nFREE FRIDAY\n\n\n\nCurious about 25N Coworking?\n\nStay and experience Flex space free for a day!\n\n\n\nCoffee\, tea\, and high speed internet included! Bring bag lunch\, carry out or order in\, enjoy your lunch with Community Manager and get to know 25N and the community better.\n\n\n\nReserve your FREE FRIDAY space with Sarah Randle\n\nsarah@25ncoworking.com or call (847) 600-4284
X-ALT-DESC;FMTTYPE=text/html:<strong><span style="font-size:16px\;">Join the Arlington Heights Chamber of Commerce for Coffee &amp\; Connections </span></strong><br />\n<br />\n<strong>AND STAY FOR...</strong><br />\n<br />\n<b><span style="font-size:14px\;">FREE FRIDAY</span><br />\n<br />\nCurious about 25N Coworking?</b><br />\nStay and experience Flex space free for a day!<br />\n<br />\nCoffee\, tea\, and high speed internet included! Bring bag lunch\, carry out or order in\, enjoy your lunch with Community Manager and get to know 25N and the community better.<br />\n<br />\nReserve your FREE FRIDAY space with Sarah Randle<br />\nsarah@25ncoworking.com or call (847) 600-4284
LOCATION:Chamber Offices Located in 25N Coworking 3400 W. Stonegate Blvd.
UID:e.858.10360
SEQUENCE:3
DTSTAMP:20260422T042617Z
URL:https://arlingtonhcc-nova-gzcms.preview.gochambermaster.com/events/details/coffee-connections-05-19-2017-10360
END:VEVENT

END:VCALENDAR
