BEGIN:VCALENDAR
VERSION:2.0
PRODID:-//ChamberMaster//Event Calendar 2.0//EN
METHOD:PUBLISH
X-PUBLISHED-TTL:P3D
REFRESH-INTERVAL:P3D
CALSCALE:GREGORIAN
BEGIN:VEVENT
DTSTART:20170605T150000Z
DTEND:20170606T000000Z
X-MICROSOFT-CDO-ALLDAYEVENT:FALSE
SUMMARY:Clearbrook's Women's Golf Outing
DESCRIPTION:Join Clearbrook for the ultimate par-tee! The 16th annual Women's Golf Classic returns on Monday\, June 5th at the luxurious Grove Country Club in Long Grove. Take part in beauty and birdies for this 18-hole scramble while enjoying tastings\, drink samples\, games and prizes at each hole! Top off the magnificent day with cocktails\, heavy hors d'oeuvres\, prizes\, and live and silent auctions while networking with top female executives\, businesswomen and golf lovers.\n\nNew this year is our junior player option! Golfers 25 and under may register with the Junior Player Fee and join in on the fun for a discounted price.\n\nNot a golfer? Enjoy the activities of the day anyways with our ride along option to join your friends for food\, fun and post-golf program!
X-ALT-DESC;FMTTYPE=text/html:<div>\n<p>Join Clearbrook for the ultimate par-tee! The 16th annual Women&rsquo\;s Golf Classic returns on Monday\, June 5th at the luxurious Grove Country Club in Long Grove. Take part in beauty and birdies for this 18-hole scramble while enjoying tastings\, drink samples\, games and prizes at each hole! Top off the magnificent day with cocktails\, heavy hors d&rsquo\;oeuvres\, prizes\, and live and silent auctions while networking with top female executives\, businesswomen and golf lovers.</p>\n\n<p>New this year is our junior player option! Golfers 25 and under may register with the Junior Player Fee and join in on the fun for a discounted price.</p>\n\n<p>Not a golfer? Enjoy the activities of the day anyways with our ride along option to join your friends for food\, fun and post-golf program!</p>\n\n<p>&nbsp\;</p>\n\n<p>&nbsp\;</p>\n</div>\n
LOCATION:The Grove Country Club 3217 Stayton Ln Long Grove\, IL 60047
UID:e.858.10370
SEQUENCE:3
DTSTAMP:20260422T025059Z
URL:https://arlingtonhcc-nova-gzcms.preview.gochambermaster.com/events/details/clearbrook-s-women-s-golf-outing-10370
END:VEVENT

END:VCALENDAR
