BEGIN:VCALENDAR
VERSION:2.0
PRODID:-//ChamberMaster//Event Calendar 2.0//EN
METHOD:PUBLISH
X-PUBLISHED-TTL:P3D
REFRESH-INTERVAL:P3D
CALSCALE:GREGORIAN
BEGIN:VEVENT
DTSTART:20170714T150000Z
DTEND:20170715T000000Z
X-MICROSOFT-CDO-ALLDAYEVENT:FALSE
SUMMARY:Clearbrook's Guardians Golf Outing
DESCRIPTION:Mark your calendars for the 2017 Clearbrook Guardians Golf Outing. Celebrating the 30th anniversary of this golf classic\, the 2017 outing will be a can't-miss event!\n\n10:30 AM   Registration\n\n12:00 PM   Lunch\n\n1:00 PM     Shotgun Start\n\n5:00 PM     Dinner & Awards Progroms
X-ALT-DESC;FMTTYPE=text/html:<div>\n<p>Mark your calendars for the 2017 Clearbrook Guardians Golf Outing. Celebrating the 30th anniversary of this golf classic\, the 2017 outing will be a can&rsquo\;t-miss event!</p>\n\n<p>10:30 AM &ndash\; Registration<br />\n12:00 PM &ndash\; Lunch<br />\n1:00 PM &nbsp\; &ndash\; Shotgun Start<br />\n5:00 PM &nbsp\; &ndash\; Dinner &amp\; Awards Progroms</p>\n</div>\n
LOCATION:Bartlett Hills Golf Club 800 W Oneida Ave Bartlett\, IL 60103
UID:e.858.10371
SEQUENCE:3
DTSTAMP:20260422T025006Z
URL:https://arlingtonhcc-nova-gzcms.preview.gochambermaster.com/events/details/clearbrook-s-guardians-golf-outing-10371
END:VEVENT

END:VCALENDAR
