BEGIN:VCALENDAR
VERSION:2.0
PRODID:-//ChamberMaster//Event Calendar 2.0//EN
METHOD:PUBLISH
X-PUBLISHED-TTL:P3D
REFRESH-INTERVAL:P3D
CALSCALE:GREGORIAN
BEGIN:VEVENT
DTSTART:20171017T223000Z
DTEND:20171018T010000Z
X-MICROSOFT-CDO-ALLDAYEVENT:FALSE
SUMMARY:Clearbrook's Around the World Food Tasting
DESCRIPTION:Clearbrook's Around the World Food Tasting event is back and returning for its 9th year at the Arlington Toyota-Scion dealership in Palatine on Tuesday\, October 17th. Come sample delicious cuisines from some of Chicagoland's favorite local restaurants. The night features delicious food\, raffle prizes\, games and a silent auction. You do not want to miss this great event!
X-ALT-DESC;FMTTYPE=text/html:<span style="color:rgb(67\, 67\, 67)\; font-family:lato\; font-size:16px">Clearbrook&rsquo\;s Around the World Food Tasting event is back and returning for its 9th year at the Arlington Toyota-Scion dealership in Palatine on Tuesday\, October 17th. Come sample delicious cuisines from some of Chicagoland&rsquo\;s favorite local restaurants. The night features delicious food\, raffle prizes\, games and a silent auction. You do not want to miss this great event!</span>
LOCATION:Arlington Toyota-Scion 2095 N Rand Rd Palatine\, IL 60074
UID:e.858.10374
SEQUENCE:3
DTSTAMP:20260421T183208Z
URL:https://arlingtonhcc-nova-gzcms.preview.gochambermaster.com/events/details/clearbrook-s-around-the-world-food-tasting-10374
END:VEVENT

END:VCALENDAR
