BEGIN:VCALENDAR
VERSION:2.0
PRODID:-//ChamberMaster//Event Calendar 2.0//EN
METHOD:PUBLISH
X-PUBLISHED-TTL:P3D
REFRESH-INTERVAL:P3D
CALSCALE:GREGORIAN
BEGIN:VEVENT
DTSTART:20160518T140000Z
DTEND:20160520T200000Z
X-MICROSOFT-CDO-ALLDAYEVENT:FALSE
SUMMARY:Clean Out Your Closets and Make a Difference in Your Community!
DESCRIPTION:Help Escorted Transportation Services (ETS) continue to provide local seniors with rides to their medical appointments by donating your used clothing to our Clothing Drive Wed. May 18 to Fri. May 20 from 9am-3pm.  Drop items off at the Savers truck located in the Arlington Heights Senior Center parking lot\, 1801 W. Central Rd.\, Arlington Heights.
X-ALT-DESC;FMTTYPE=text/html:<p><br />\n<span style="font-size:14px\;">Help&nbsp\;<a href="http://www.etsnw.org/" target="_blank">Escorted Transportation Services (ETS)</a> continue to provide local seniors with rides to their medical appointments by donating your used clothing to our Clothing Drive Wed. May 18 to Fri. May 20 from 9am-3pm. &nbsp\;Drop items off at the Savers truck located in the Arlington Heights Senior Center parking lot\, 1801 W. Central Rd.\, Arlington Heights. &nbsp\;&nbsp\;</span></p>\n
LOCATION:Arlington Heights Senior Center 1801 W. Central Rd. Arlington Heights\, IL 60005
UID:e.858.8993
SEQUENCE:3
DTSTAMP:20260423T133553Z
URL:https://arlingtonhcc-nova-gzcms.preview.gochambermaster.com/events/details/clean-out-your-closets-and-make-a-difference-in-your-community-05-18-2016-8993
END:VEVENT

END:VCALENDAR
