BEGIN:VCALENDAR
VERSION:2.0
PRODID:-//ChamberMaster//Event Calendar 2.0//EN
METHOD:PUBLISH
X-PUBLISHED-TTL:P3D
REFRESH-INTERVAL:P3D
CALSCALE:GREGORIAN
BEGIN:VEVENT
DTSTART:20171103T233000Z
DTEND:20171104T043000Z
X-MICROSOFT-CDO-ALLDAYEVENT:FALSE
SUMMARY:Celebrate Ability Gala
DESCRIPTION:SLSF's premier fundraising event\, the Celebrate Ability Gala is black-tie optional and features an open bar\, silent and impact auctions\,  the ever popular Bucket of Cheer\, dinner\, an opportunity to hear how the dollars raised that evening make a difference in the lives of Northwest Special Recreation Association participants and their families\, all followed by dancing to Monster Entertainment.  This event features online bidding so there is no waiting in line to pay at the end of the evening.
X-ALT-DESC;FMTTYPE=text/html:SLSF&#39\;s premier fundraising event\, the Celebrate Ability&nbsp\;Gala is black-tie optional and features an open bar\, silent and impact auctions\, &nbsp\;the ever popular Bucket of Cheer\, dinner\, an opportunity to hear how the dollars raised that evening make a difference in the lives of Northwest Special Recreation Association participants and their families\, all followed by dancing to Monster Entertainment.&nbsp\; This event features online bidding so there is no waiting in line to pay at the end of the evening.
LOCATION:Chevy Chase Ballroom 1000 N. Milwaukee Avenue Wheeling\, IL
UID:e.858.10427
SEQUENCE:3
DTSTAMP:20260421T164849Z
URL:https://arlingtonhcc-nova-gzcms.preview.gochambermaster.com/events/details/celebrate-ability-gala-10427
END:VEVENT

END:VCALENDAR
