BEGIN:VCALENDAR
VERSION:2.0
PRODID:-//ChamberMaster//Event Calendar 2.0//EN
METHOD:PUBLISH
X-PUBLISHED-TTL:P3D
REFRESH-INTERVAL:P3D
CALSCALE:GREGORIAN
BEGIN:VEVENT
DTSTART:20150331T213000Z
DTEND:20150331T233000Z
X-MICROSOFT-CDO-ALLDAYEVENT:FALSE
SUMMARY:Business After Hours at Rolling Green Country Club & Trustee Candidate Forum
DESCRIPTION:Rolling Green Country Club and Trustee Candidate Forum\n\n\n\n\nBusiness After Hours \n\nRolling Green Country Club\n\n\nHear about the ClubCorp Advantage with new membership levels and pricing at Rolling Green Country Club along with hosting opportunities for your social events!\n Bring your business card to be included in the drawing for a foursome!\n\n \n\nArlington Heights Village Trustee Candidate Forum \n\n Stay for the Trustee Candidate Forum at 6-7PM. Trustee Candidates will respond to questions based on those sent in by AHCC members
X-ALT-DESC;FMTTYPE=text/html:<span style="color:#000000\;"><span style="font-size: 14px\;"><span style="font-family: arial\;"><strong>Rolling Green Country Club and Trustee Candidate Forum</strong></span></span></span>\n\n<div style="color: #000000\;">\n<div><br>\n<strong><span style="color:#000000\;"><span style="font-size: 14px\;"><span style="font-family: arial\;">Business After Hours&nbsp\;</span></span></span></strong></div>\n\n<div><span style="font-size:14px\;"><span style="font-family: arial\;"><b><span style="text-decoration: underline\;"><a href="http://r20.rs6.net/tn.jsp?e=001eoZ1mebrDlf8_KOVa4F_prCn3jTSUtKEMxqWFB7EGmqffWITeUbA1IwRALl9xCG3IbvsPXhgAa16gTg-8wHDCKgYMzB4SnWiN8sBNaPNMkhfxcsEyxmUsGk0Vk4wwJqci5wLpEQV9DgAKBogojItBA==" shape="rect" style="color: rgb(0\, 0\, 0)\; font-weight: bold\; text-decoration: underline\;" target="_blank"><span style="color:#000000\;">Rolling Green Country Club</span></a></span></b></span></span></div>\n</div>\n\n<div style="text-align: left\; font-size: 11pt\; color: #000000\;" align="left"><span style="color:#000000\;"><span style="font-size: 14px\;"><span style="font-family: arial\;">Hear about the ClubCorp Advantage with new membership levels and pricing at Rolling Green Country Club along with hosting opportunities for your social events!</span></span></span></div>\n<span style="color:#000000\;"><span style="font-size: 14px\;"><span style="font-family: arial\;"> <em>Bring your business card to be included in the drawing for a foursome!</em></span></span></span><br>\n&nbsp\;\n<div>\n<div><strong><span style="color:#000000\;"><span style="font-size: 14px\;"><span style="font-family: arial\;">Arlington Heights Village Trustee Candidate Forum </span></span></span></strong></div>\n</div>\n<span style="color:#000000\;"><span style="font-size: 14px\;"><span style="font-family: arial\;"> Stay for the Trustee Candidate Forum at 6-7PM. Trustee Candidates will respond to questions based on those sent in by AHCC members</span></span></span>
LOCATION:Rolling Green Country Club 2525 E. Rand Rd Arlington Heights\, IL
UID:e.858.4286
SEQUENCE:3
DTSTAMP:20260424T153438Z
URL:https://arlingtonhcc-nova-gzcms.preview.gochambermaster.com/events/details/business-after-hours-at-rolling-green-country-club-trustee-candidate-forum-03-31-2015-4286
END:VEVENT

END:VCALENDAR
