BEGIN:VCALENDAR
VERSION:2.0
PRODID:-//ChamberMaster//Event Calendar 2.0//EN
METHOD:PUBLISH
X-PUBLISHED-TTL:P3D
REFRESH-INTERVAL:P3D
CALSCALE:GREGORIAN
BEGIN:VEVENT
DTSTART:20160518T223000Z
DTEND:20160519T010000Z
X-MICROSOFT-CDO-ALLDAYEVENT:FALSE
SUMMARY:Atlas Shrugged Movie\, Part 1
DESCRIPTION:Based upon the controversial 1957 novel by Ayn Rand\, Atlas Shrugged follows the struggles of Dagny Taggart\, a railroad heiress trying to maintain her integrity and keep her family's railroad alive in the midst of a rapidly decaying world. She faces increasingly corrupt government agencies\, the cowardly incompetence of her own brother\, and the systematic loss of her best and most competent workers. As she works to overcome each obstacle\, she begins to detect a pattern and suspects a sinister force working against her. All across the country\, there is a growing sense of helplessness\, often summed up in a phrase that everyone seems to know\, but no one knows the origin of: Who is John Galt?
X-ALT-DESC;FMTTYPE=text/html:<br />\nBased upon the controversial 1957 novel by Ayn Rand\, <em>Atlas Shrugged </em>follows the struggles of Dagny Taggart\, a railroad heiress trying to maintain her integrity and keep her family&#39\;s railroad alive in the midst of a rapidly decaying world. She faces increasingly corrupt government agencies\, the cowardly incompetence of her own brother\, and the systematic loss of her best and most competent workers. As she works to overcome each obstacle\, she begins to detect a pattern and suspects a sinister force working against her. All across the country\, there is a growing sense of helplessness\, often summed up in a phrase that everyone seems to know\, but no one knows the origin of: Who is John Galt?
LOCATION:The Heartland Institute 3939 N. Wilke Rd. Arlington Heights\, IL
UID:e.858.8996
SEQUENCE:3
DTSTAMP:20260423T133548Z
URL:https://arlingtonhcc-nova-gzcms.preview.gochambermaster.com/events/details/atlas-shrugged-movie-part-1-05-18-2016-8996
END:VEVENT

END:VCALENDAR
