BEGIN:VCALENDAR
VERSION:2.0
PRODID:-//ChamberMaster//Event Calendar 2.0//EN
METHOD:PUBLISH
X-PUBLISHED-TTL:P3D
REFRESH-INTERVAL:P3D
CALSCALE:GREGORIAN
BEGIN:VEVENT
DTSTART:20151129T193000Z
DTEND:20151129T223000Z
X-MICROSOFT-CDO-ALLDAYEVENT:FALSE
SUMMARY:Arlington Heights Historical Society's Festival of the Wreaths and Indoor Holiday Market
DESCRIPTION:Visit the Arlington Heights Historical Museum to view and bid on the over 70 wreaths submitted by local individuals\, community organizations and businesses.  Bid on the wreath of your choice in our silent auction. Enjoy some low key\, relaxed shopping in our indoor holiday market.  No Black Friday mania here!
X-ALT-DESC;FMTTYPE=text/html:Visit the Arlington Heights Historical Museum to view and bid on the over 70 wreaths submitted by local individuals\, community organizations and businesses. &nbsp\;Bid on the wreath of your choice in our silent auction. Enjoy some low key\, relaxed shopping in our indoor holiday market. &nbsp\;No Black Friday mania here!&nbsp\;
LOCATION:110 W. Fremont
UID:e.858.8423
SEQUENCE:3
DTSTAMP:20260423T220241Z
URL:https://arlingtonhcc-nova-gzcms.preview.gochambermaster.com/events/details/arlington-heights-historical-society-s-festival-of-the-wreaths-and-indoor-holiday-market-11-29-2015-8423
END:VEVENT

END:VCALENDAR
