BEGIN:VCALENDAR
VERSION:2.0
PRODID:-//ChamberMaster//Event Calendar 2.0//EN
METHOD:PUBLISH
X-PUBLISHED-TTL:P3D
REFRESH-INTERVAL:P3D
CALSCALE:GREGORIAN
BEGIN:VEVENT
DTSTART:20151102T220000Z
DTEND:20151103T003000Z
X-MICROSOFT-CDO-ALLDAYEVENT:FALSE
SUMMARY:An evening with the New York Times bestselling author of Still Alice\, Lisa Genova
DESCRIPTION:Telling a Story\, Expanding the Conversation:\n\nAn evening with the New York Times bestselling author of Still Alice\, Lisa Genova\n\n\n\nLutheran Home\, raising awareness and faithfully supporting those living with Alzheimer's Disease\, is honored to welcome Lisa Genova.\n\nTickets are $35.00 and include a copy of the paperback Still Alice\n\nBook signing with the author  \n\nDoors open at 3:30 p.m.  |  Complimentary valet parking\n\nSeating is limited register today!
X-ALT-DESC;FMTTYPE=text/html:<p><strong>Telling a Story\,&nbsp\;Expanding the Conversation:</strong><br />\n<strong>An evening with the&nbsp\;<em>New York Times</em>&nbsp\;bestselling author of&nbsp\;<em>Still Alice\,&nbsp\;</em>Lisa Genova</strong><br />\n<br />\nLutheran Home\, raising awareness and faithfully&nbsp\;supporting those living with Alzheimer&rsquo\;s Disease\,&nbsp\;is honored to welcome Lisa Genova.</p>\n\n<p>Tickets are $35.00 and include a copy&nbsp\;of the paperback&nbsp\;<em>Still Alice</em></p>\n\n<p>Book signing with the author &nbsp\;</p>\n\n<p>Doors open at 3:30 p.m.&nbsp\; |&nbsp\; Complimentary valet parking</p>\n\n<p><strong><em>Seating is limited</em></strong><em>&mdash\;</em><strong><em>register today!</em></strong></p>\n
LOCATION:Lutheran Home | 800 West Oakton Street | Arlington Heights\, IL 60004
UID:e.858.8417
SEQUENCE:3
DTSTAMP:20260423T220242Z
URL:https://arlingtonhcc-nova-gzcms.preview.gochambermaster.com/events/details/an-evening-with-the-new-york-times-bestselling-author-of-still-alice-lisa-genova-11-02-2015-8417
END:VEVENT

END:VCALENDAR
