BEGIN:VCALENDAR
VERSION:2.0
PRODID:-//ChamberMaster//Event Calendar 2.0//EN
METHOD:PUBLISH
X-PUBLISHED-TTL:P3D
REFRESH-INTERVAL:P3D
CALSCALE:GREGORIAN
BEGIN:VEVENT
DTSTART:20191024T220000Z
DTEND:20191025T010000Z
X-MICROSOFT-CDO-ALLDAYEVENT:FALSE
SUMMARY:All Business Builders Networking Event
DESCRIPTION:Join members of all seven Business Builders Groups for an evening of networking\, food\, beverages and fun on the rooftop at One Arlington.\n\n\n\nNo cost to attend - You already paid so you might as well come network and enjoy!
X-ALT-DESC;FMTTYPE=text/html:<span style="font-size:18px\;">Join members of all seven Business Builders Groups for an evening of networking\, food\, beverages and fun on the rooftop at One Arlington.<br />\n<br />\n<span style="color:#FF0000\;">No cost to attend - You already paid so you might as well come network and enjoy!</span></span>
LOCATION:Rooftop at One Arlington 3400 W. Stonegate Blvd. Arlington Heights\, IL
UID:e.858.12935
SEQUENCE:3
DTSTAMP:20260419T155648Z
URL:https://arlingtonhcc-nova-gzcms.preview.gochambermaster.com/events/details/all-business-builders-networking-event-12935
END:VEVENT

END:VCALENDAR
