BEGIN:VCALENDAR
VERSION:2.0
PRODID:-//ChamberMaster//Event Calendar 2.0//EN
METHOD:PUBLISH
X-PUBLISHED-TTL:P3D
REFRESH-INTERVAL:P3D
CALSCALE:GREGORIAN
BEGIN:VEVENT
DTSTART:20150214T010000Z
DTEND:20150214T050000Z
X-MICROSOFT-CDO-ALLDAYEVENT:FALSE
SUMMARY:2015 Chicago Auto Show's First Look For Charity Preview Event
DESCRIPTION:Be among the first to see over 1000 new vehicles on display at this benevolent event which benefits 18 Chicago area charities.  This is the city's largest single-day charitable event\, raising $39 million since its inception and Clearbrook is grateful to participate so that we can continue to serve over 7\,000 children and adults with developmental/intellectual disabilities like autism\, Down syndrome and cerebral palsy.\n\n \n\nDon your tuxedo and indulge in over 20 gourmet food stations\, cocktails\, live bands and perhaps win one of two prize vehicles!  Clearbrook has a private suite where you can meet and greet your guests\, entertain clients\, host a staff party or recognize employees all while receiving a tax deduction and giving back to charity. \n\n \n\nRon Magers and Kathy Brock will be the Masters of Ceremony and you can take advantage of a special discounted rate at the Hyatt to make a special weekend of it.  Our corporate sponsors receive a private table in our suite\, and well deserved recognition in the official brochures and listings of the event.\n\n \n\nContact: Laura Warren at Clearbrook 847/385-5374 \n\nlwarren@clearbrook.org    www.Clearbrook.org/firstlookforcharity
X-ALT-DESC;FMTTYPE=text/html:<span style="color:#1F497D\;">Be among the first to see over 1000 new vehicles on display at this benevolent event which benefits 18 Chicago area charities.&nbsp\; This is the city&rsquo\;s largest single-day charitable event\, raising $39 million since its inception and Clearbrook is grateful to participate so that we can continue to serve over 7\,000 children and adults with developmental/intellectual disabilities like autism\, Down syndrome and cerebral palsy.</span><br />\n&nbsp\;<br />\n<span style="color:#1F497D\;">Don your tuxedo and indulge in over 20 gourmet food stations\, cocktails\, live bands and perhaps win one of two prize vehicles!&nbsp\; Clearbrook has a private suite where you can meet and greet your guests\, entertain clients\, host a staff party or recognize employees all while receiving a tax deduction and giving back to charity. </span><br />\n&nbsp\;<br />\n<span style="color:#1F497D\;">Ron Magers and Kathy Brock will be the Masters of Ceremony and you can take advantage of a special discounted rate at the Hyatt to make a special weekend of it.&nbsp\; Our corporate sponsors receive a private table in our suite\, and well deserved recognition in the official brochures and listings of the event.</span><br />\n&nbsp\;<br />\n<span style="color:#1F497D\;">Contact: Laura Warren at Clearbrook 847/385-5374&nbsp\;<br />\n<a href="mailto:lwarren@clearbrook.org">lwarren@clearbrook.org</a>&nbsp\;&nbsp\; &nbsp\;<a href="http://www.Clearbrook.org/firstlookforcharity">www.Clearbrook.org/firstlookforcharity</a></span>
LOCATION:McCormick Place King Drive at 23rd Street Chicago\, IL 60616 King Drive at 23rd Street Chicago\, IL 60616 King Drive at 23rd Street Chicago\, IL 60616 King Drive at 23rd Street Chicago\, IL 60616
UID:e.858.4403
SEQUENCE:3
DTSTAMP:20260424T170216Z
URL:https://arlingtonhcc-nova-gzcms.preview.gochambermaster.com/events/details/2015-chicago-auto-show-s-first-look-for-charity-preview-event-02-13-2015-4403
END:VEVENT

END:VCALENDAR
